BEGIN:VCALENDAR
VERSION:2.0
PRODID:-//ProClub//Events//EN
CALSCALE:GREGORIAN
METHOD:PUBLISH
BEGIN:VEVENT
UID:proclub-903@testwebwork.co.uk
DTSTAMP:20260421T174724Z
DTSTART;VALUE=DATE:20260501
DTEND;VALUE=DATE:20260502
SUMMARY:ProClub Lancaster - May 2026
LOCATION:Lancaster
URL:https://testwebwork.co.uk/eventdetail/?event_id=903
END:VEVENT
END:VCALENDAR
