BEGIN:VCALENDAR
VERSION:2.0
PRODID:-//ProClub//Events//EN
CALSCALE:GREGORIAN
METHOD:PUBLISH
BEGIN:VEVENT
UID:proclub-902@testwebwork.co.uk
DTSTAMP:20260421T193043Z
DTSTART;VALUE=DATE:20260403
DTEND;VALUE=DATE:20260404
SUMMARY:ProClub Lancaster - Apr 2026
LOCATION:Lancaster
URL:https://testwebwork.co.uk/eventdetail/?event_id=902
END:VEVENT
END:VCALENDAR
