BEGIN:VCALENDAR
VERSION:2.0
PRODID:-//ProClub//Events//EN
CALSCALE:GREGORIAN
METHOD:PUBLISH
BEGIN:VEVENT
UID:proclub-901@testwebwork.co.uk
DTSTAMP:20260421T163236Z
DTSTART;VALUE=DATE:20260515
DTEND;VALUE=DATE:20260516
SUMMARY:ProClub Chorley - May 2026
LOCATION:Chorley
URL:https://testwebwork.co.uk/eventdetail/?event_id=901
END:VEVENT
END:VCALENDAR
