BEGIN:VCALENDAR
VERSION:2.0
PRODID:-//ProClub//Events//EN
CALSCALE:GREGORIAN
METHOD:PUBLISH
BEGIN:VEVENT
UID:proclub-900@testwebwork.co.uk
DTSTAMP:20260421T161615Z
DTSTART;VALUE=DATE:20260417
DTEND;VALUE=DATE:20260418
SUMMARY:ProClub Chorley - Apr 2026
LOCATION:Chorley
URL:https://testwebwork.co.uk/eventdetail/?event_id=900
END:VEVENT
END:VCALENDAR
